BEGIN:VCALENDAR
VERSION:2.0
PRODID:-//SVP Bezirk Baden //NONSGML Events //EN
CALSCALE:GREGORIAN
X-WR-CALNAME:SVP Bezirk Baden
BEGIN:VEVENT
CREATED:20241118T151525Z
UID:7308
DTEND:20250513T000000
DTSTART:20250513T000000
DTSTAMP:20260423T031245Z
LOCATION:
DESCRIPTION:
SUMMARY:Fraktionsausflug
ORGANIZER:
URL;VALUE=URI:https://www.svp-bezirkbaden.ch/termine/fraktionsausflug/
TRANSP:OPAQUE
END:VEVENT
END:VCALENDAR
