BEGIN:VCALENDAR
VERSION:2.0
PRODID:-//SVP Bezirk Baden //NONSGML Events //EN
CALSCALE:GREGORIAN
X-WR-CALNAME:SVP Bezirk Baden
BEGIN:VEVENT
CREATED:20231010T202726Z
UID:6330
DTEND:20231026T200000
DTSTART:20231026T190000
DTSTAMP:20260420T134838Z
LOCATION:5432 Neuenhof\, Waldhaus Juxital
DESCRIPTION:SVP Bezirk Baden  Donnerstag, 26. Oktober 2023 5432 Neuenhof, Waldhaus
SUMMARY:Racletteplausch
ORGANIZER:SVP Bezirk Baden
URL;VALUE=URI:https://www.svp-bezirkbaden.ch/termine/racletteplausch/
TRANSP:OPAQUE
END:VEVENT
END:VCALENDAR
