BEGIN:VCALENDAR
VERSION:2.0
PRODID:-//SVP Bezirk Baden //NONSGML Events //EN
CALSCALE:GREGORIAN
X-WR-CALNAME:SVP Bezirk Baden
BEGIN:VEVENT
CREATED:20231003T062858Z
UID:6325
DTEND:20231022T140000
DTSTART:20231022T133000
DTSTAMP:20260420T135845Z
LOCATION:
DESCRIPTION:Entgegennahme der Wahlresultate ab 13.30 Uhr im Restaurant Schützen, 
SUMMARY:Wahlsonntag
ORGANIZER:
URL;VALUE=URI:https://www.svp-bezirkbaden.ch/termine/wahlsonntag/
TRANSP:OPAQUE
END:VEVENT
END:VCALENDAR
