BEGIN:VCALENDAR
VERSION:2.0
PRODID:-//SVP Bezirk Baden //NONSGML Events //EN
CALSCALE:GREGORIAN
X-WR-CALNAME:SVP Bezirk Baden
BEGIN:VEVENT
CREATED:20230209T085418Z
UID:5733
DTEND:20231109T000000
DTSTART:20231109T000000
DTSTAMP:20260420T134032Z
LOCATION:
DESCRIPTION:Öffentliche Parteiversammlung
SUMMARY:Parteiversammlung SVP Waltenschwil
ORGANIZER:
URL;VALUE=URI:https://www.svp-bezirkbaden.ch/termine/parteiversammlung-svp-waltenschwil/
TRANSP:OPAQUE
END:VEVENT
END:VCALENDAR
