BEGIN:VCALENDAR
VERSION:2.0
PRODID:-//SVP Bezirk Baden //NONSGML Events //EN
CALSCALE:GREGORIAN
X-WR-CALNAME:SVP Bezirk Baden
BEGIN:VEVENT
CREATED:20220120T060902Z
UID:5165
DTEND:20221001T120000
DTSTART:20221001T110000
DTSTAMP:20260420T044036Z
LOCATION:
DESCRIPTION:Gasthof Adler, Birmenstorf
SUMMARY:Politapéro mit Sessionsrückblick
ORGANIZER:
URL;VALUE=URI:https://www.svp-bezirkbaden.ch/termine/politapero-mit-sessionsrueckblick-10/
TRANSP:OPAQUE
END:VEVENT
END:VCALENDAR
