BEGIN:VCALENDAR
VERSION:2.0
PRODID:-//SVP Bezirk Baden //NONSGML Events //EN
CALSCALE:GREGORIAN
X-WR-CALNAME:SVP Bezirk Baden
BEGIN:VEVENT
CREATED:20220120T061157Z
UID:5159
DTEND:20221022T000000
DTSTART:20221022T000000
DTSTAMP:20260423T123742Z
LOCATION:
DESCRIPTION:
SUMMARY:Delegiertenversammlung SVP Schweiz
ORGANIZER:
URL;VALUE=URI:https://www.svp-bezirkbaden.ch/termine/delegiertenversammlung-svp-schweiz-3/
TRANSP:OPAQUE
END:VEVENT
END:VCALENDAR
