BEGIN:VCALENDAR
VERSION:2.0
PRODID:-//SVP Bezirk Baden //NONSGML Events //EN
CALSCALE:GREGORIAN
X-WR-CALNAME:SVP Bezirk Baden
BEGIN:VEVENT
CREATED:20210920T101441Z
UID:4595
DTEND:20220925T000000
DTSTART:20220925T000000
DTSTAMP:20260421T150014Z
LOCATION:
DESCRIPTION:
SUMMARY:Abstimmungssonntag
ORGANIZER:
URL;VALUE=URI:https://www.svp-bezirkbaden.ch/termine/abstimmungssonntag-6/
TRANSP:OPAQUE
END:VEVENT
END:VCALENDAR
