BEGIN:VCALENDAR
VERSION:2.0
PRODID:-//SVP Bezirk Baden //NONSGML Events //EN
CALSCALE:GREGORIAN
X-WR-CALNAME:SVP Bezirk Baden
BEGIN:VEVENT
CREATED:20200929T112214Z
UID:3561
DTEND:20210428T000000
DTSTART:20210428T000000
DTSTAMP:20260424T023127Z
LOCATION:
DESCRIPTION:
SUMMARY:Kantonalparteitag &#8211\; abgesagt
ORGANIZER:
URL;VALUE=URI:https://www.svp-bezirkbaden.ch/termine/kantonalparteitag-5/
TRANSP:OPAQUE
END:VEVENT
END:VCALENDAR
